BEGIN:VCALENDAR
VERSION:2.0
PRODID:-//ChamberMaster//Event Calendar 2.0//EN
METHOD:PUBLISH
X-PUBLISHED-TTL:P3D
REFRESH-INTERVAL:P3D
CALSCALE:GREGORIAN
BEGIN:VEVENT
DTSTART:20260521T113000Z
DTEND:20260521T140000Z
X-MICROSOFT-CDO-ALLDAYEVENT:FALSE
SUMMARY:AI Advanced Users
DESCRIPTION:AI Workshop Series: Practical AI for Real Work\n\nThis series includes three individual hands-on workshops designed to show you how to use AI for real business tasks from marketing and customer communication to sales support and production planning. Each session focuses on practical application\, helping you learn how AI can streamline workflows\, generate ideas\, and save time.\n\nParticipants will practice using AI tools during each workshop and leave with strategies they can apply immediately.\n\nPlease bring a laptop\, as exercises will be completed during the workshops.\n\n\n\nInstructor: Chris Coulson is the founder of Coulson Technologies and a trusted technology advisor who helps businesses use technology and AI in practical\, results-driven ways to save time\, reduce costs\, and work more efficiently without unnecessary complexity.
X-ALT-DESC;FMTTYPE=text/html:<p dir="ltr" style="color: rgb(36\, 36\, 36)\; font-family: &quot\;Segoe UI&quot\;\, &quot\;Segoe UI Web (West European)&quot\;\, -apple-system\, BlinkMacSystemFont\, Roboto\, &quot\;Helvetica Neue&quot\;\, sans-serif\; font-size: 15px\;"><span style="border: 0px\; font-style: inherit\; font-variant: inherit\; font-weight: inherit\; font-stretch: inherit\; line-height: inherit\; font-family: Aptos\, Arial\, Helvetica\, sans-serif\; font-optical-sizing: inherit\; font-size-adjust: inherit\; font-kerning: inherit\; font-feature-settings: inherit\; font-variation-settings: inherit\; font-language-override: inherit\; margin: 0px\; padding: 0px\; vertical-align: baseline\; color: rgb(0\, 0\, 0)\;"><b data-olk-copy-source="MessageBody">AI Workshop Series: Practical AI for Real Work</b></span></p>\n\n<p style="color: rgb(36\, 36\, 36)\; font-family: &quot\;Segoe UI&quot\;\, &quot\;Segoe UI Web (West European)&quot\;\, -apple-system\, BlinkMacSystemFont\, Roboto\, &quot\;Helvetica Neue&quot\;\, sans-serif\; font-size: 15px\;"><span style="border: 0px\; font-style: inherit\; font-variant: inherit\; font-weight: inherit\; font-stretch: inherit\; line-height: inherit\; font-family: Aptos\, Arial\, Helvetica\, sans-serif\; font-optical-sizing: inherit\; font-size-adjust: inherit\; font-kerning: inherit\; font-feature-settings: inherit\; font-variation-settings: inherit\; font-language-override: inherit\; margin: 0px\; padding: 0px\; vertical-align: baseline\; color: rgb(0\, 0\, 0)\;">This series includes&nbsp\;<b>three individual hands-on workshops</b>&nbsp\;designed to show you how to use AI for real business tasks&mdash\;from marketing and customer communication to sales support and production planning. Each session focuses on practical application\, helping you learn how AI can streamline workflows\, generate ideas\, and save time.</span></p>\n\n<p style="color: rgb(36\, 36\, 36)\; font-family: &quot\;Segoe UI&quot\;\, &quot\;Segoe UI Web (West European)&quot\;\, -apple-system\, BlinkMacSystemFont\, Roboto\, &quot\;Helvetica Neue&quot\;\, sans-serif\; font-size: 15px\;"><span style="border: 0px\; font-style: inherit\; font-variant: inherit\; font-weight: inherit\; font-stretch: inherit\; line-height: inherit\; font-family: Aptos\, Arial\, Helvetica\, sans-serif\; font-optical-sizing: inherit\; font-size-adjust: inherit\; font-kerning: inherit\; font-feature-settings: inherit\; font-variation-settings: inherit\; font-language-override: inherit\; margin: 0px\; padding: 0px\; vertical-align: baseline\; color: rgb(0\, 0\, 0)\;">Participants will practice using AI tools during each workshop and leave with strategies they can apply immediately.</span></p>\n\n<p style="color: rgb(36\, 36\, 36)\; font-family: &quot\;Segoe UI&quot\;\, &quot\;Segoe UI Web (West European)&quot\;\, -apple-system\, BlinkMacSystemFont\, Roboto\, &quot\;Helvetica Neue&quot\;\, sans-serif\; font-size: 15px\;"><span style="border: 0px\; font-style: inherit\; font-variant: inherit\; font-weight: inherit\; font-stretch: inherit\; line-height: inherit\; font-family: Aptos\, Arial\, Helvetica\, sans-serif\; font-optical-sizing: inherit\; font-size-adjust: inherit\; font-kerning: inherit\; font-feature-settings: inherit\; font-variation-settings: inherit\; font-language-override: inherit\; margin: 0px\; padding: 0px\; vertical-align: baseline\; color: rgb(0\, 0\, 0)\;"><b>Please bring a laptop</b>\, as exercises will be completed during the workshops.</span><br />\n<br />\n<strong>Instructor:&nbsp\;</strong><span style="font-size: 14px\;"><span data-olk-copy-source="MessageBody" style="border: 0px\; font-variant-numeric: inherit\; font-variant-east-asian: inherit\; font-variant-alternates: inherit\; font-variant-position: inherit\; font-variant-emoji: inherit\; font-weight: 700\; font-stretch: inherit\; line-height: inherit\; font-family: Arial\, sans-serif\; font-optical-sizing: inherit\; font-size-adjust: inherit\; font-kerning: inherit\; font-feature-settings: inherit\; font-variation-settings: inherit\; font-language-override: inherit\; margin: 0px\; padding: 0px\; vertical-align: baseline\; color: rgb(0\, 0\, 0)\;">Chris Coulson</span><span style="border: 0px\; font-variant-numeric: inherit\; font-variant-east-asian: inherit\; font-variant-alternates: inherit\; font-variant-position: inherit\; font-variant-emoji: inherit\; font-stretch: inherit\; line-height: inherit\; font-family: Arial\, sans-serif\; font-optical-sizing: inherit\; font-size-adjust: inherit\; font-kerning: inherit\; font-feature-settings: inherit\; font-variation-settings: inherit\; font-language-override: inherit\; margin: 0px\; padding: 0px\; vertical-align: baseline\; color: rgb(0\, 0\, 0)\;"><strong>&nbsp\;</strong>is the founder of Coulson Technologies and a trusted technology advisor who helps businesses use technology and AI in practical\, results-driven ways to save time\, reduce costs\, and work more efficiently&mdash\;without unnecessary complexity.</span></span></p>\n
LOCATION:York Builders Association 540 Greenbriar Road York\, PA 17404
UID:e.9246.13695
SEQUENCE:3
DTSTAMP:20260420T035219Z
URL:https://memberzone.yorkbuilders.com/events/details/ai-advanced-users-13695
END:VEVENT

END:VCALENDAR
