BEGIN:VCALENDAR
VERSION:2.0
PRODID:-//ChamberMaster//Event Calendar 2.0//EN
METHOD:PUBLISH
X-PUBLISHED-TTL:P3D
REFRESH-INTERVAL:P3D
CALSCALE:GREGORIAN
BEGIN:VEVENT
DTSTART:20260925T150000Z
DTEND:20260925T200000Z
X-MICROSOFT-CDO-ALLDAYEVENT:FALSE
SUMMARY:2026 YBA Sporting Clays Shoot
DESCRIPTION:Join us for our 21st Annual Sporting Clays Shoot at Central Penn Sporting Clays.\n\n\n\n \n\n\n\nEnjoy a BBQ picnic\, and target practice from 11:00 am to 1:00 pm. We will kick off the shoot at 1:00 pm with a shotgun start. After you've completed the course\, join us back at the pavilion for refreshments and awards presentations.\n\n\n\nYBA will provide 50 shells per person for the shoot\, safety glasses\, lunch before the shoot\, and\, additional refreshments after the shoot\n\n\n\nBring with you: \n\n\n\n	12 or 20 gauge shotgun capable of firing two shots\n	Additional hearing protection - we will have earplugs and safety glasses\n	Coat or shell bag to carry shells\n\nTHIS EVENT IS HELD RAIN OR SHINE
X-ALT-DESC;FMTTYPE=text/html:<div data-block="true" data-editor="43brd" data-offset-key="5tc9t-0-0">\n<div data-offset-key="5tc9t-0-0"><span style="font-size:14px\;"><strong>Join us for our 21st&nbsp\;Annual Sporting Clays Shoot at Central Penn Sporting Clays.</strong></span></div>\n</div>\n\n<div data-block="true" data-editor="43brd" data-offset-key="idc6-0-0">\n<div data-offset-key="idc6-0-0">&nbsp\;</div>\n</div>\n\n<div data-block="true" data-editor="43brd" data-offset-key="541ab-0-0">\n<div data-offset-key="541ab-0-0">Enjoy a BBQ picnic\, and target practice from 11:00 am to 1:00 pm. We will kick off the shoot at 1:00 pm with a shotgun start. After you&#39\;ve completed the course\, join us back at the pavilion for refreshments and awards presentations.<br />\n<br />\nYBA will provide 50 shells per person for the shoot\, safety glasses\, lunch before the shoot\, and\, additional refreshments after the shoot</div>\n\n<div><br />\nBring with you:&nbsp\;</div>\n</div>\n\n<ul>\n	<li>12 or 20&nbsp\;gauge&nbsp\;shotgun capable of firing two shots</li>\n	<li>Additional hearing protection - we will have earplugs and safety glasses</li>\n	<li>Coat or shell bag to carry shells</li>\n</ul>\nTHIS EVENT IS HELD RAIN OR SHINE
LOCATION:Central Penn Sporting Clays 75 Quarry Rd Wellsville\, PA 17365
UID:e.9246.13652
SEQUENCE:3
DTSTAMP:20260419T165950Z
URL:https://memberzone.yorkbuilders.com/events/details/2026-yba-sporting-clays-shoot-13652
END:VEVENT

END:VCALENDAR
